Workbook
Name AcLbl: Calc!$C$11
Name ChecksOK: Calc!$E$645
Name Company: Guide!$D$6
Name Cur: Guide!$D$7
Name FATarget: Guide!$D$10
Name focusBrand: Brand!$W$5
Name focusChannel: Channel!$W$5
Name LastAct: Calc!$C$13
Name lstBrand: Guide!$I$6:$I$11
Name lstChannel: Guide!$G$6:$G$11
Name mFrom: Calc!$C$7
Name mSel: Calc!$C$6
Name mTo: Calc!$C$8
Name PerLbl: Calc!$C$12
Name ScaleLbl: Guide!$D$8
Name selFY: Summary!$S$3
Name selMonth: Summary!$U$3
Name selView: Summary!$W$3
Name Tol: Guide!$D$9
Name Unit: Calc!$C$9
Name UnitLbl: Calc!$C$10
Name WinM: Calc!$C$14

Sheet Summary
B2: =Company&": CFO performance dashboard" -> Coskun Finance: CFO performance dashboard | P2: DATA CHECKS | S2: FISCAL YEAR | U2: MONTH | W2: VIEW
B3: =PerLbl&" | "&UnitLbl&" | Actual vs Budget vs Forecast vs Prior Year" -> YTD Oct 2026 | $m | Actual vs Budget vs Forecast vs Prior Year | P3: =IF(ChecksOK=1,"✔ All passed","✖ See Guide") -> ✔ All passed | S3: 2026 | U3: Oct | W3: YTD
B4: Summary | D4: P&L | F4: Channel | H4: Brand | J4: Data | L4: Guide
B5: ="Headline KPIs: "&PerLbl&", "&UnitLbl&" unless stated" -> Headline KPIs: YTD Oct 2026, $m unless stated
B6: NET REVENUE | F6: GROSS MARGIN | J6: CONTRIBUTION MARGIN | N6: EBITDA | R6: EBITDA MARGIN | V6: NET INCOME
B7: =Calc!$E$300 -> 415.57 | F7: =Calc!$E$326 -> 0.56085858 | J7: =Calc!$E$329 -> 0.38163246 | N7: =Calc!$E$307 -> 81.81 | R7: =Calc!$E$331 -> 0.19686214 | V7: =Calc!$E$309 -> 44.995
B9: vs BU | C9: vs FC | D9: vs PY | E9: Status | F9: vs BU | G9: vs FC | H9: vs PY | I9: Status | J9: vs BU | K9: vs FC | L9: vs PY | M9: Status | N9: vs BU | O9: vs FC | P9: vs PY | Q9: Status | R9: vs BU | S9: vs FC | T9: vs PY | U9: Status | V9: vs BU | W9: vs FC | X9: vs PY | Y9: Status
B10: =Calc!$J$300 -> -0.0020460014 | C10: =Calc!$L$300 -> -0.0010504631 | D10: =Calc!$N$300 -> 0.080755647 | E10: =Calc!$O$300 -> 2 | F10: =Calc!$I$326 -> -0.89768276 | G10: =Calc!$K$326 -> -0.24853063 | H10: =Calc!$M$326 -> -1.7598085 | I10: =Calc!$O$326 -> 2 | J10: =Calc!$I$329 -> -0.86231014 | K10: =Calc!$K$329 -> -0.23899276 | L10: =Calc!$M$329 -> -1.0565048 | M10: =Calc!$O$329 -> 1 | N10: =Calc!$J$307 -> -0.043873592 | O10: =Calc!$L$307 -> -0.013612414 | P10: =Calc!$N$307 -> 0.058056673 | Q10: =Calc!$O$307 -> 1 | R10: =Calc!$I$331 -> -0.86121133 | S10: =Calc!$K$331 -> -0.25071002 | T10: =Calc!$M$331 -> -0.42233737 | U10: =Calc!$O$331 -> 1 | V10: =Calc!$J$309 -> -0.059016668 | W10: =Calc!$L$309 -> -0.018519326 | X10: =Calc!$N$309 -> 0.075072277 | Y10: =Calc!$O$309 -> 1
B12: FREE CASH FLOW | F12: CASH CONVERSION | J12: NWC % OF NET REVENUE | N12: CASH CONVERSION CYCLE (DAYS) | R12: NET DEBT | V12: NET DEBT / EBITDA
B13: =Calc!$E$310 -> 43.16 | F13: =Calc!$E$334 -> 0.52756387 | J13: =Calc!$E$335 -> 0.19178165 | N13: =Calc!$E$336 -> 84.065345 | R13: =Calc!$E$319 -> 125.675 | V13: =Calc!$E$338 -> 1.203023
B15: vs BU | C15: vs FC | D15: vs PY | E15: Status | F15: vs BU | G15: vs FC | H15: vs PY | I15: Status | J15: vs BU | K15: vs FC | L15: vs PY | M15: Status | N15: vs BU | O15: vs FC | P15: vs PY | Q15: Status | R15: vs BU | S15: vs FC | T15: vs PY | U15: Status | V15: vs BU | W15: vs FC | X15: vs PY | Y15: Status
B16: =Calc!$J$310 -> -0.23178242 | C16: =Calc!$L$310 -> -0.079881468 | D16: =Calc!$N$310 -> 1.0829111 | E16: =Calc!$O$310 -> 1 | F16: =Calc!$I$334 -> -12.904405 | G16: =Calc!$K$334 -> -3.7996364 | H16: =Calc!$M$334 -> 25.957716 | I16: =Calc!$O$334 -> 1 | J16: =Calc!$I$335 -> 1.9365503 | K16: =Calc!$K$335 -> 0.56658465 | L16: =Calc!$M$335 -> 2.1970528 | M16: =Calc!$O$335 -> 1 | N16: =Calc!$I$336 -> 11.390251 | O16: =Calc!$K$336 -> 3.2921442 | P16: =Calc!$M$336 -> 11.195458 | Q16: =Calc!$O$336 -> 1 | R16: =Calc!$J$319 -> 0.1152771 | S16: =Calc!$L$319 -> 0.030596011 | T16: =Calc!$N$319 -> -0.16922823 | U16: =Calc!$O$319 -> 1 | V16: =Calc!$I$338 -> 0.16176445 | W16: =Calc!$K$338 -> 0.048195587 | X16: =Calc!$M$338 -> -0.31007502 | Y16: =Calc!$O$338 -> 1
B18: ="Executive summary: generated from the numbers, "&PerLbl -> Executive summary: generated from the numbers, YTD Oct 2026
B19: Revenue | D19: ="Net revenue "&UnitLbl&" "&FIXED(Calc!$E$300,1)&" is "&IF(Calc!$J$300*100>=0,"+","-")&FIXED(ABS(Calc!$J$300*100),1)&"% vs budget, "&IF(Calc!$L$300*100>=0,"+","-")&FIXED(ABS(Calc!$L$300*100),1)&"% vs forecast and "&IF(Calc!$N$300*100>=0,"+","-")&FIXED(ABS(Calc!$N$300*100),1)&"% vs prior year. Trade and returns rate "&FIXED(Calc!$E$325*100,1)&"% of gross sales ("&IF(Calc!$I$325>=0,"+","-")&FIXED(ABS(Calc!$I$325),1)&"pp vs budget)." -> Net revenue $m 415.6 is -0.2% vs budget, -0.1% vs forecast and +8.1% vs prior year. Trade and returns rate 17.6% of gross sales (+0.2pp vs budget).
B20: Profit | D20: ="EBITDA "&UnitLbl&" "&FIXED(Calc!$E$307,1)&" ("&FIXED(Calc!$E$331*100,1)&"% margin) is "&IF(Calc!$I$307>=0,"+","-")&FIXED(ABS(Calc!$I$307),1)&" vs budget. Biggest tailwind: "&INDEX(Calc!$A$496:$A$501,MATCH(MAX(Calc!$B$496:$B$501),Calc!$B$496:$B$501,0))&" ("&IF(MAX(Calc!$B$496:$B$501)>=0,"+","-")&FIXED(ABS(MAX(Calc!$B$496:$B$501)),1)&"). Biggest headwind: "&INDEX(Calc!$A$496:$A$501,MATCH(MIN(Calc!$B$496:$B$501),Calc!$B$496:$B$501,0))&" ("&IF(MIN(Calc!$B$496:$B$501)>=0,"+","-")&FIXED(ABS(MIN(Calc!$B$496:$B$501)),1)&")." -> EBITDA $m 81.8 (19.7% margin) is -3.8 vs budget. Biggest tailwind: Price, mix, trade (+2.1). Biggest headwind: COGS rate (-4.6).
B21: Channels | D21: ="Net revenue vs budget, "&UnitLbl&". Best channel: "&INDEX(Channel!$B$14:$B$19,MATCH(MAX(Channel!$G$14:$G$19),Channel!$G$14:$G$19,0))&" ("&IF(MAX(Channel!$G$14:$G$19)>=0,"+","-")&FIXED(ABS(MAX(Channel!$G$14:$G$19)),1)&"). Weakest: "&INDEX(Channel!$B$14:$B$19,MATCH(MIN(Channel!$G$14:$G$19),Channel!$G$14:$G$19,0))&" ("&IF(MIN(Channel!$G$14:$G$19)>=0,"+","-")&FIXED(ABS(MIN(Channel!$G$14:$G$19)),1)&")." -> Net revenue vs budget, $m. Best channel: Marketplaces (+5.9). Weakest: Hypermarkets (-5.9).
B22: Brands | D22: ="Net revenue vs budget, "&UnitLbl&". Best brand: "&INDEX(Brand!$B$14:$B$19,MATCH(MAX(Brand!$G$14:$G$19),Brand!$G$14:$G$19,0))&" ("&IF(MAX(Brand!$G$14:$G$19)>=0,"+","-")&FIXED(ABS(MAX(Brand!$G$14:$G$19)),1)&"). Weakest: "&INDEX(Brand!$B$14:$B$19,MATCH(MIN(Brand!$G$14:$G$19),Brand!$G$14:$G$19,0))&" ("&IF(MIN(Brand!$G$14:$G$19)>=0,"+","-")&FIXED(ABS(MIN(Brand!$G$14:$G$19)),1)&")." -> Net revenue vs budget, $m. Best brand: Aurelia (+4.5). Weakest: Everwood (-3.1).
B23: Cash | D23: ="Free cash flow "&UnitLbl&" "&FIXED(Calc!$E$310,1)&" ("&IF(Calc!$I$310>=0,"+","-")&FIXED(ABS(Calc!$I$310),1)&" vs budget), cash conversion "&FIXED(Calc!$E$334*100,0)&"%. Cash cycle "&FIXED(Calc!$E$336,1)&" days ("&IF(Calc!$I$336>=0,"+","-")&FIXED(ABS(Calc!$I$336),1)&" vs budget). Leverage "&FIXED(Calc!$E$338,2)&"x." -> Free cash flow $m 43.2 (-13.0 vs budget), cash conversion 53%. Cash cycle 84.1 days (+11.4 vs budget). Leverage 1.20x.
B24: Outlook | D24: ="Full-year latest estimate: net revenue "&UnitLbl&" "&FIXED(SUM(Calc!$D$144:$O$144),1)&" ("&IF(SUM(Calc!$D$144:$O$144)-SUM(Calc!$D$156:$O$156)>=0,"+","-")&FIXED(ABS(SUM(Calc!$D$144:$O$144)-SUM(Calc!$D$156:$O$156)),1)&" vs budget), EBITDA "&UnitLbl&" "&FIXED(SUM(Calc!$D$151:$O$151),1)&" ("&IF(SUM(Calc!$D$151:$O$151)-SUM(Calc!$D$163:$O$163)>=0,"+","-")&FIXED(ABS(SUM(Calc!$D$151:$O$151)-SUM(Calc!$D$163:$O$163)),1)&" vs budget)." -> Full-year latest estimate: net revenue $m 519.5 (-1.0 vs budget), EBITDA $m 106.0 (-4.6 vs budget).
B26: Revenue and profit
B42: Profitability and outlook
B58: Channels and brands (detail on the Channel and Brand tabs)
B74: Cash and balance sheet
B90: Cost and productivity
B106: ="KPI scorecard: "&PerLbl -> KPI scorecard: YTD Oct 2026
B107: KPI | F107: =AcLbl -> Actual | G107: Budget | H107: Var vs BU | I107: Var % vs BU | J107: Forecast | K107: Var vs FC | L107: Var % vs FC | M107: Prior year | N107: Var vs PY | O107: Var % vs PY | P107: Status | Q107: Trend, Jan to Dec | T107: How it is measured
B108: Growth
B109: =Calc!$B$300 -> Net revenue | F109: =Calc!$E$300 -> 415.57 | G109: =Calc!$F$300 -> 416.422 | H109: =Calc!$I$300 -> -0.852 | I109: =Calc!$J$300 -> -0.0020460014 | J109: =Calc!$G$300 -> 416.007 | K109: =Calc!$K$300 -> -0.437 | L109: =Calc!$L$300 -> -0.0010504631 | M109: =Calc!$H$300 -> 384.518 | N109: =Calc!$M$300 -> 31.052 | O109: =Calc!$N$300 -> 0.080755647 | P109: =Calc!$O$300 -> 2 | T109: Net revenue / gross sales less trade and returns
B110: =Calc!$B$313 -> Volume (k units) | F110: =Calc!$E$313 -> 52604.6 | G110: =Calc!$F$313 -> 52974.3 | H110: =Calc!$I$313 -> -369.7 | I110: =Calc!$J$313 -> -0.0069788558 | J110: =Calc!$G$313 -> 52742.3 | K110: =Calc!$K$313 -> -137.7 | L110: =Calc!$L$313 -> -0.0026108076 | M110: =Calc!$H$313 -> 49700.5 | N110: =Calc!$M$313 -> 2904.1 | O110: =Calc!$N$313 -> 0.058432008 | P110: =Calc!$O$313 -> 2 | T110: Units sold, thousands
B111: =Calc!$B$324 -> Net revenue per unit | F111: =Calc!$E$324 -> 7.8998795 | G111: =Calc!$F$324 -> 7.8608306 | H111: =Calc!$I$324 -> 0.039048849 | I111: =Calc!$J$324 -> 0.004967522 | J111: =Calc!$G$324 -> 7.88754 | K111: =Calc!$K$324 -> 0.012339496 | L111: =Calc!$L$324 -> 0.001564429 | M111: =Calc!$H$324 -> 7.7367029 | N111: =Calc!$M$324 -> 0.16317663 | O111: =Calc!$N$324 -> 0.021091236 | P111: =Calc!$O$324 -> 3 | T111: Net revenue / units
B112: =Calc!$B$325 -> Trade and returns rate | F112: =Calc!$E$325 -> 0.1758014 | G112: =Calc!$F$325 -> 0.17376751 | H112: =Calc!$I$325 -> 0.20338882 | I112: =Calc!$J$325 -> 0.011704652 | J112: =Calc!$G$325 -> 0.17525857 | K112: =Calc!$K$325 -> 0.054283067 | L112: =Calc!$L$325 -> 0.0030973132 | M112: =Calc!$H$325 -> 0.17021189 | N112: =Calc!$M$325 -> 0.5589507 | O112: =Calc!$N$325 -> 0.032838522 | P112: =Calc!$O$325 -> 2 | T112: Trade and returns / gross sales
B113: Profitability
B114: =Calc!$B$326 -> Gross margin | F114: =Calc!$E$326 -> 0.56085858 | G114: =Calc!$F$326 -> 0.56983541 | H114: =Calc!$I$326 -> -0.89768276 | I114: =Calc!$J$326 -> -0.015753369 | J114: =Calc!$G$326 -> 0.56334389 | K114: =Calc!$K$326 -> -0.24853063 | L114: =Calc!$L$326 -> -0.0044117036 | M114: =Calc!$H$326 -> 0.57845667 | N114: =Calc!$M$326 -> -1.7598085 | O114: =Calc!$N$326 -> -0.030422478 | P114: =Calc!$O$326 -> 2 | T114: Gross profit / net revenue
B115: =Calc!$B$327 -> A&P as % of net revenue | F115: =Calc!$E$327 -> 0.085807445 | G115: =Calc!$F$327 -> 0.089056294 | H115: =Calc!$I$327 -> -0.32488487 | I115: =Calc!$J$327 -> -0.036480843 | J115: =Calc!$G$327 -> 0.086700464 | K115: =Calc!$K$327 -> -0.089301898 | L115: =Calc!$L$327 -> -0.010300048 | M115: =Calc!$H$327 -> 0.09644542 | N115: =Calc!$M$327 -> -1.0637975 | O115: =Calc!$N$327 -> -0.11030047 | T115: A&P / net revenue (neutral: spend is a choice)
B116: =Calc!$B$328 -> Cost to serve % | F116: =Calc!$E$328 -> 0.093418678 | G116: =Calc!$F$328 -> 0.090523555 | H116: =Calc!$I$328 -> 0.28951225 | I116: =Calc!$J$328 -> 0.03198198 | J116: =Calc!$G$328 -> 0.092621038 | K116: =Calc!$K$328 -> 0.079764033 | L116: =Calc!$L$328 -> 0.00861187 | M116: =Calc!$H$328 -> 0.089813741 | N116: =Calc!$M$328 -> 0.36049371 | O116: =Calc!$N$328 -> 0.040137924 | P116: =Calc!$O$328 -> 1 | T116: Logistics and selling / net revenue
B117: =Calc!$B$329 -> Contribution margin % | F117: =Calc!$E$329 -> 0.38163246 | G117: =Calc!$F$329 -> 0.39025556 | H117: =Calc!$I$329 -> -0.86231014 | I117: =Calc!$J$329 -> -0.022096037 | J117: =Calc!$G$329 -> 0.38402238 | K117: =Calc!$K$329 -> -0.23899276 | L117: =Calc!$L$329 -> -0.006223407 | M117: =Calc!$H$329 -> 0.3921975 | N117: =Calc!$M$329 -> -1.0565048 | O117: =Calc!$N$329 -> -0.02693808 | P117: =Calc!$O$329 -> 1 | T117: Contribution / net revenue
B118: =Calc!$B$330 -> Overheads % | F118: =Calc!$E$330 -> 0.18477032 | G118: =Calc!$F$330 -> 0.1847813 | H118: =Calc!$I$330 -> -0.0010988111 | I118: =Calc!$J$330 -> -5.9465492e-05 | J118: =Calc!$G$330 -> 0.18465314 | K118: =Calc!$K$330 -> 0.011717261 | L118: =Calc!$L$330 -> 0.00063455521 | M118: =Calc!$H$330 -> 0.19111199 | N118: =Calc!$M$330 -> -0.63416741 | O118: =Calc!$N$330 -> -0.033183026 | P118: =Calc!$O$330 -> 3 | T118: Overheads / net revenue
B119: =Calc!$B$307 -> EBITDA | F119: =Calc!$E$307 -> 81.81 | G119: =Calc!$F$307 -> 85.564 | H119: =Calc!$I$307 -> -3.754 | I119: =Calc!$J$307 -> -0.043873592 | J119: =Calc!$G$307 -> 82.939 | K119: =Calc!$K$307 -> -1.129 | L119: =Calc!$L$307 -> -0.013612414 | M119: =Calc!$H$307 -> 77.321 | N119: =Calc!$M$307 -> 4.489 | O119: =Calc!$N$307 -> 0.058056673 | P119: =Calc!$O$307 -> 1 | T119: Contribution less overheads
B120: =Calc!$B$331 -> EBITDA margin | F120: =Calc!$E$331 -> 0.19686214 | G120: =Calc!$F$331 -> 0.20547425 | H120: =Calc!$I$331 -> -0.86121133 | I120: =Calc!$J$331 -> -0.041913345 | J120: =Calc!$G$331 -> 0.19936924 | K120: =Calc!$K$331 -> -0.25071002 | L120: =Calc!$L$331 -> -0.012575161 | M120: =Calc!$H$331 -> 0.20108551 | N120: =Calc!$M$331 -> -0.42233737 | O120: =Calc!$N$331 -> -0.021002874 | P120: =Calc!$O$331 -> 1 | T120: EBITDA / net revenue
B121: =Calc!$B$308 -> EBIT | F121: =Calc!$E$308 -> 67.01 | G121: =Calc!$F$308 -> 70.764 | H121: =Calc!$I$308 -> -3.754 | I121: =Calc!$J$308 -> -0.053049573 | J121: =Calc!$G$308 -> 68.139 | K121: =Calc!$K$308 -> -1.129 | L121: =Calc!$L$308 -> -0.016569072 | M121: =Calc!$H$308 -> 63.191 | N121: =Calc!$M$308 -> 3.819 | O121: =Calc!$N$308 -> 0.060435822 | P121: =Calc!$O$308 -> 1 | T121: EBITDA less D&A
...

Sheet P&L
B2: =Company&": P&L, actual versus budget" -> Coskun Finance: P&L, actual versus budget
B3: =selMonth&" "&selFY&" | "&UnitLbl&" | positive variance = favourable, costs shown as negatives" -> Oct 2026 | $m | positive variance = favourable, costs shown as negatives
B4: Summary | C4: P&L | D4: Channel | E4: Brand | F4: Data | G4: Guide
B5: =UnitLbl -> $m | C5: ="MONTH: "&selMonth&" "&selFY -> MONTH: Oct 2026 | J5: ="YEAR TO DATE: Jan to "&selMonth -> YEAR TO DATE: Jan to Oct | Q5: ="FULL YEAR "&selFY -> FULL YEAR 2026 | V5: COMMENTARY: type over the yellow cells
B6: P&L line | C6: Actual | D6: Budget | E6: Var | F6: Var % | G6: Var vs FC | H6: Var % vs PY | J6: Actual | K6: Budget | L6: Var | M6: Var % | N6: Var vs FC | O6: Var % vs PY | Q6: Latest est. | R6: Budget | S6: Var | T6: Var % | V6: Driver of the YTD variance
B7: Gross sales | C7: =INDEX(Calc!$D$119:$O$119,mSel) -> 61.573 | D7: =INDEX(Calc!$D$44:$O$44,mSel) -> 61.737 | E7: =C7-D7 -> -0.164 | F7: =IFERROR(E7/ABS(D7),0) -> -0.0026564297 | G7: =C7-INDEX(Calc!$D$69:$O$69,mSel) -> -0.197 | H7: =IFERROR((C7-INDEX(Calc!$D$94:$O$94,mSel))/ABS(INDEX(Calc!$D$94:$O$94,mSel)),0) -> 0.082640269 | J7: =SUM(INDEX(Calc!$D$119:$O$119,1):INDEX(Calc!$D$119:$O$119,mSel)) -> 504.211 | K7: =SUM(INDEX(Calc!$D$44:$O$44,1):INDEX(Calc!$D$44:$O$44,mSel)) -> 504.001 | L7: =J7-K7 -> 0.21 | M7: =IFERROR(L7/ABS(K7),0) -> 0.00041666584 | N7: =J7-SUM(INDEX(Calc!$D$69:$O$69,1):INDEX(Calc!$D$69:$O$69,mSel)) -> -0.198 | O7: =IFERROR((J7-SUM(INDEX(Calc!$D$94:$O$94,1):INDEX(Calc!$D$94:$O$94,mSel)))/ABS(SUM(INDEX(Calc!$D$94:$O$94,1):INDEX(Calc!$D$94:$O$94,mSel))),0) -> 0.08808506 | Q7: =SUM(Calc!$D$119:$O$119) -> 630.329 | R7: =SUM(Calc!$D$44:$O$44) -> 629.999 | S7: =Q7-R7 -> 0.33 | T7: =IFERROR(S7/ABS(R7),0) -> 0.00052381036 | V7: Dummy text. Gross sales +0.2m vs budget: Marketplaces (+5.9m net) ahead, Hypermarkets (-5.9m net) behind.
B8: Trade discounts | C8: =INDEX(Calc!$D$120:$O$120,mSel) -> -9.616 | D8: =INDEX(Calc!$D$45:$O$45,mSel) -> -9.545 | E8: =C8-D8 -> -0.071 | F8: =IFERROR(E8/ABS(D8),0) -> -0.0074384494 | G8: =C8-INDEX(Calc!$D$70:$O$70,mSel) -> 0.003 | H8: =IFERROR((C8-INDEX(Calc!$D$95:$O$95,mSel))/ABS(INDEX(Calc!$D$95:$O$95,mSel)),0) -> -0.11697061 | J8: =SUM(INDEX(Calc!$D$120:$O$120,1):INDEX(Calc!$D$120:$O$120,mSel)) -> -78.726 | K8: =SUM(INDEX(Calc!$D$45:$O$45,1):INDEX(Calc!$D$45:$O$45,mSel)) -> -77.914 | L8: =J8-K8 -> -0.812 | M8: =IFERROR(L8/ABS(K8),0) -> -0.010421747 | N8: =J8-SUM(INDEX(Calc!$D$70:$O$70,1):INDEX(Calc!$D$70:$O$70,mSel)) -> -0.173 | O8: =IFERROR((J8-SUM(INDEX(Calc!$D$95:$O$95,1):INDEX(Calc!$D$95:$O$95,mSel)))/ABS(SUM(INDEX(Calc!$D$95:$O$95,1):INDEX(Calc!$D$95:$O$95,mSel))),0) -> -0.12250834 | Q8: =SUM(Calc!$D$120:$O$120) -> -98.407 | R8: =SUM(Calc!$D$45:$O$45) -> -97.392 | S8: =Q8-R8 -> -1.015 | T8: =IFERROR(S8/ABS(R8),0) -> -0.010421801 | V8: Dummy text. Trade -0.8m: higher rates agreed at Discounters and Hypermarkets partly offset by lower Marketplaces volume deals.
B9: Returns | C9: =INDEX(Calc!$D$121:$O$121,mSel) -> -1.212 | D9: =INDEX(Calc!$D$46:$O$46,mSel) -> -1.188 | E9: =C9-D9 -> -0.024 | F9: =IFERROR(E9/ABS(D9),0) -> -0.02020202 | G9: =C9-INDEX(Calc!$D$71:$O$71,mSel) -> -0.003 | H9: =IFERROR((C9-INDEX(Calc!$D$96:$O$96,mSel))/ABS(INDEX(Calc!$D$96:$O$96,mSel)),0) -> -0.13059701 | J9: =SUM(INDEX(Calc!$D$121:$O$121,1):INDEX(Calc!$D$121:$O$121,mSel)) -> -9.915 | K9: =SUM(INDEX(Calc!$D$46:$O$46,1):INDEX(Calc!$D$46:$O$46,mSel)) -> -9.665 | L9: =J9-K9 -> -0.25 | M9: =IFERROR(L9/ABS(K9),0) -> -0.025866529 | N9: =J9-SUM(INDEX(Calc!$D$71:$O$71,1):INDEX(Calc!$D$71:$O$71,mSel)) -> -0.066 | O9: =IFERROR((J9-SUM(INDEX(Calc!$D$96:$O$96,1):INDEX(Calc!$D$96:$O$96,mSel)))/ABS(SUM(INDEX(Calc!$D$96:$O$96,1):INDEX(Calc!$D$96:$O$96,mSel))),0) -> -0.13430958 | Q9: =SUM(Calc!$D$121:$O$121) -> -12.391 | R9: =SUM(Calc!$D$46:$O$46) -> -12.081 | S9: =Q9-R9 -> -0.31 | T9: =IFERROR(S9/ABS(R9),0) -> -0.025660127
B10: Net revenue | C10: =INDEX(Calc!$D$144:$O$144,mSel) -> 50.745 | D10: =INDEX(Calc!$D$156:$O$156,mSel) -> 51.004 | E10: =C10-D10 -> -0.259 | F10: =IFERROR(E10/ABS(D10),0) -> -0.0050780331 | G10: =C10-INDEX(Calc!$D$168:$O$168,mSel) -> -0.197 | H10: =IFERROR((C10-INDEX(Calc!$D$180:$O$180,mSel))/ABS(INDEX(Calc!$D$180:$O$180,mSel)),0) -> 0.075288184 | J10: =SUM(INDEX(Calc!$D$144:$O$144,1):INDEX(Calc!$D$144:$O$144,mSel)) -> 415.57 | K10: =SUM(INDEX(Calc!$D$156:$O$156,1):INDEX(Calc!$D$156:$O$156,mSel)) -> 416.422 | L10: =J10-K10 -> -0.852 | M10: =IFERROR(L10/ABS(K10),0) -> -0.0020460014 | N10: =J10-SUM(INDEX(Calc!$D$168:$O$168,1):INDEX(Calc!$D$168:$O$168,mSel)) -> -0.437 | O10: =IFERROR((J10-SUM(INDEX(Calc!$D$180:$O$180,1):INDEX(Calc!$D$180:$O$180,mSel)))/ABS(SUM(INDEX(Calc!$D$180:$O$180,1):INDEX(Calc!$D$180:$O$180,mSel))),0) -> 0.080755647 | Q10: =SUM(Calc!$D$144:$O$144) -> 519.531 | R10: =SUM(Calc!$D$156:$O$156) -> 520.526 | S10: =Q10-R10 -> -0.995 | T10: =IFERROR(S10/ABS(R10),0) -> -0.001911528 | V10: Dummy text. Aurelia +4.5m is the strongest brand; Everwood -3.1m on weaker volumes.
B11: Material cost | C11: =INDEX(Calc!$D$122:$O$122,mSel) -> -15.921 | D11: =INDEX(Calc!$D$47:$O$47,mSel) -> -15.797 | E11: =C11-D11 -> -0.124 | F11: =IFERROR(E11/ABS(D11),0) -> -0.0078495917 | G11: =C11-INDEX(Calc!$D$72:$O$72,mSel) -> 0.006 | H11: =IFERROR((C11-INDEX(Calc!$D$97:$O$97,mSel))/ABS(INDEX(Calc!$D$97:$O$97,mSel)),0) -> -0.1111809 | J11: =SUM(INDEX(Calc!$D$122:$O$122,1):INDEX(Calc!$D$122:$O$122,mSel)) -> -130.389 | K11: =SUM(INDEX(Calc!$D$47:$O$47,1):INDEX(Calc!$D$47:$O$47,mSel)) -> -128.977 | L11: =J11-K11 -> -1.412 | M11: =IFERROR(L11/ABS(K11),0) -> -0.010947688 | N11: =J11-SUM(INDEX(Calc!$D$72:$O$72,1):INDEX(Calc!$D$72:$O$72,mSel)) -> -0.324 | O11: =IFERROR((J11-SUM(INDEX(Calc!$D$97:$O$97,1):INDEX(Calc!$D$97:$O$97,mSel)))/ABS(SUM(INDEX(Calc!$D$97:$O$97,1):INDEX(Calc!$D$97:$O$97,mSel))),0) -> -0.1164302 | Q11: =SUM(Calc!$D$122:$O$122) -> -162.991 | R11: =SUM(Calc!$D$47:$O$47) -> -161.227 | S11: =Q11-R11 -> -1.764 | T11: =IFERROR(S11/ABS(R11),0) -> -0.010941095 | V11: Dummy text. Material cost -1.4m, including about 1.5% input inflation against budget.
B12: Conversion cost | C12: =INDEX(Calc!$D$123:$O$123,mSel) -> -3.919 | D12: =INDEX(Calc!$D$48:$O$48,mSel) -> -3.947 | E12: =C12-D12 -> 0.028 | F12: =IFERROR(E12/ABS(D12),0) -> 0.0070939954 | G12: =C12-INDEX(Calc!$D$73:$O$73,mSel) -> 0.022 | H12: =IFERROR((C12-INDEX(Calc!$D$98:$O$98,mSel))/ABS(INDEX(Calc!$D$98:$O$98,mSel)),0) -> -0.077536431 | J12: =SUM(INDEX(Calc!$D$123:$O$123,1):INDEX(Calc!$D$123:$O$123,mSel)) -> -32.118 | K12: =SUM(INDEX(Calc!$D$48:$O$48,1):INDEX(Calc!$D$48:$O$48,mSel)) -> -32.244 | L12: =J12-K12 -> 0.126 | M12: =IFERROR(L12/ABS(K12),0) -> 0.0039077038 | N12: =J12-SUM(INDEX(Calc!$D$73:$O$73,1):INDEX(Calc!$D$73:$O$73,mSel)) -> 0.054 | O12: =IFERROR((J12-SUM(INDEX(Calc!$D$98:$O$98,1):INDEX(Calc!$D$98:$O$98,mSel)))/ABS(SUM(INDEX(Calc!$D$98:$O$98,1):INDEX(Calc!$D$98:$O$98,mSel))),0) -> -0.083530126 | Q12: =SUM(Calc!$D$123:$O$123) -> -40.154 | R12: =SUM(Calc!$D$48:$O$48) -> -40.306 | S12: =Q12-R12 -> 0.152 | T12: =IFERROR(S12/ABS(R12),0) -> 0.0037711507
B13: Inbound freight | C13: =INDEX(Calc!$D$124:$O$124,mSel) -> -2.44 | D13: =INDEX(Calc!$D$49:$O$49,mSel) -> -2.193 | E13: =C13-D13 -> -0.247 | F13: =IFERROR(E13/ABS(D13),0) -> -0.1126311 | G13: =C13-INDEX(Calc!$D$74:$O$74,mSel) -> -0.063 | H13: =IFERROR((C13-INDEX(Calc!$D$99:$O$99,mSel))/ABS(INDEX(Calc!$D$99:$O$99,mSel)),0) -> -0.27149557 | J13: =SUM(INDEX(Calc!$D$124:$O$124,1):INDEX(Calc!$D$124:$O$124,mSel)) -> -19.987 | K13: =SUM(INDEX(Calc!$D$49:$O$49,1):INDEX(Calc!$D$49:$O$49,mSel)) -> -17.909 | L13: =J13-K13 -> -2.078 | M13: =IFERROR(L13/ABS(K13),0) -> -0.11603105 | N13: =J13-SUM(INDEX(Calc!$D$74:$O$74,1):INDEX(Calc!$D$74:$O$74,mSel)) -> -0.572 | O13: =IFERROR((J13-SUM(INDEX(Calc!$D$99:$O$99,1):INDEX(Calc!$D$99:$O$99,mSel)))/ABS(SUM(INDEX(Calc!$D$99:$O$99,1):INDEX(Calc!$D$99:$O$99,mSel))),0) -> -0.27647209 | Q13: =SUM(Calc!$D$124:$O$124) -> -24.97 | R13: =SUM(Calc!$D$49:$O$49) -> -22.386 | S13: =Q13-R13 -> -2.584 | T13: =IFERROR(S13/ABS(R13),0) -> -0.11542929 | V13: Dummy text. Freight -2.1m: lane rates above the budget assumption. Tender planned for Q1.
B14: Gross profit | C14: =INDEX(Calc!$D$146:$O$146,mSel) -> 28.465 | D14: =INDEX(Calc!$D$158:$O$158,mSel) -> 29.067 | E14: =C14-D14 -> -0.602 | F14: =IFERROR(E14/ABS(D14),0) -> -0.020710772 | G14: =C14-INDEX(Calc!$D$170:$O$170,mSel) -> -0.232 | H14: =IFERROR((C14-INDEX(Calc!$D$182:$O$182,mSel))/ABS(INDEX(Calc!$D$182:$O$182,mSel)),0) -> 0.042368537 | J14: =SUM(INDEX(Calc!$D$146:$O$146,1):INDEX(Calc!$D$146:$O$146,mSel)) -> 233.076 | K14: =SUM(INDEX(Calc!$D$158:$O$158,1):INDEX(Calc!$D$158:$O$158,mSel)) -> 237.292 | L14: =J14-K14 -> -4.216 | M14: =IFERROR(L14/ABS(K14),0) -> -0.017767139 | N14: =J14-SUM(INDEX(Calc!$D$170:$O$170,1):INDEX(Calc!$D$170:$O$170,mSel)) -> -1.279 | O14: =IFERROR((J14-SUM(INDEX(Calc!$D$182:$O$182,1):INDEX(Calc!$D$182:$O$182,mSel)))/ABS(SUM(INDEX(Calc!$D$182:$O$182,1):INDEX(Calc!$D$182:$O$182,mSel))),0) -> 0.047876382 | Q14: =SUM(Calc!$D$146:$O$146) -> 291.416 | R14: =SUM(Calc!$D$158:$O$158) -> 296.607 | S14: =Q14-R14 -> -5.191 | T14: =IFERROR(S14/ABS(R14),0) -> -0.017501273
B15: Advertising | C15: =INDEX(Calc!$D$125:$O$125,mSel) -> -2.745 | D15: =INDEX(Calc!$D$50:$O$50,mSel) -> -2.953 | E15: =C15-D15 -> 0.208 | F15: =IFERROR(E15/ABS(D15),0) -> 0.070436844 | G15: =C15-INDEX(Calc!$D$75:$O$75,mSel) -> 0.058 | H15: =IFERROR((C15-INDEX(Calc!$D$100:$O$100,mSel))/ABS(INDEX(Calc!$D$100:$O$100,mSel)),0) -> 0.070436844 | J15: =SUM(INDEX(Calc!$D$125:$O$125,1):INDEX(Calc!$D$125:$O$125,mSel)) -> -22.417 | K15: =SUM(INDEX(Calc!$D$50:$O$50,1):INDEX(Calc!$D$50:$O$50,mSel)) -> -24.113 | L15: =J15-K15 -> 1.696 | M15: =IFERROR(L15/ABS(K15),0) -> 0.070335504 | N15: =J15-SUM(INDEX(Calc!$D$75:$O$75,1):INDEX(Calc!$D$75:$O$75,mSel)) -> 0.475 | O15: =IFERROR((J15-SUM(INDEX(Calc!$D$100:$O$100,1):INDEX(Calc!$D$100:$O$100,mSel)))/ABS(SUM(INDEX(Calc!$D$100:$O$100,1):INDEX(Calc!$D$100:$O$100,mSel))),0) -> 0.070335504 | Q15: =SUM(Calc!$D$125:$O$125) -> -28.033 | R15: =SUM(Calc!$D$50:$O$50) -> -30.142 | S15: =Q15-R15 -> 2.109 | T15: =IFERROR(S15/ABS(R15),0) -> 0.069968814 | V15: Dummy text. Advertising +1.7m: media underspend held as contingency; rephasing under review.
B16: Promotions | C16: =INDEX(Calc!$D$126:$O$126,mSel) -> -1.624 | D16: =INDEX(Calc!$D$51:$O$51,mSel) -> -1.59 | E16: =C16-D16 -> -0.034 | F16: =IFERROR(E16/ABS(D16),0) -> -0.021383648 | G16: =C16-INDEX(Calc!$D$76:$O$76,mSel) -> -0.011 | H16: =IFERROR((C16-INDEX(Calc!$D$101:$O$101,mSel))/ABS(INDEX(Calc!$D$101:$O$101,mSel)),0) -> -0.021383648 | J16: =SUM(INDEX(Calc!$D$126:$O$126,1):INDEX(Calc!$D$126:$O$126,mSel)) -> -13.242 | K16: =SUM(INDEX(Calc!$D$51:$O$51,1):INDEX(Calc!$D$51:$O$51,mSel)) -> -12.972 | L16: =J16-K16 -> -0.27 | M16: =IFERROR(L16/ABS(K16),0) -> -0.020814061 | N16: =J16-SUM(INDEX(Calc!$D$76:$O$76,1):INDEX(Calc!$D$76:$O$76,mSel)) -> -0.066 | O16: =IFERROR((J16-SUM(INDEX(Calc!$D$101:$O$101,1):INDEX(Calc!$D$101:$O$101,mSel)))/ABS(SUM(INDEX(Calc!$D$101:$O$101,1):INDEX(Calc!$D$101:$O$101,mSel))),0) -> -0.020814061 | Q16: =SUM(Calc!$D$126:$O$126) -> -16.551 | R16: =SUM(Calc!$D$51:$O$51) -> -16.219 | S16: =Q16-R16 -> -0.332 | T16: =IFERROR(S16/ABS(R16),0) -> -0.020469819
B17: Outbound logistics | C17: =INDEX(Calc!$D$127:$O$127,mSel) -> -3.139 | D17: =INDEX(Calc!$D$52:$O$52,mSel) -> -3.004 | E17: =C17-D17 -> -0.135 | F17: =IFERROR(E17/ABS(D17),0) -> -0.04494008 | G17: =C17-INDEX(Calc!$D$77:$O$77,mSel) -> -0.031 | H17: =IFERROR((C17-INDEX(Calc!$D$102:$O$102,mSel))/ABS(INDEX(Calc!$D$102:$O$102,mSel)),0) -> -0.14436748 | J17: =SUM(INDEX(Calc!$D$127:$O$127,1):INDEX(Calc!$D$127:$O$127,mSel)) -> -25.693 | K17: =SUM(INDEX(Calc!$D$52:$O$52,1):INDEX(Calc!$D$52:$O$52,mSel)) -> -24.535 | L17: =J17-K17 -> -1.158 | M17: =IFERROR(L17/ABS(K17),0) -> -0.047197881 | N17: =J17-SUM(INDEX(Calc!$D$77:$O$77,1):INDEX(Calc!$D$77:$O$77,mSel)) -> -0.3 | O17: =IFERROR((J17-SUM(INDEX(Calc!$D$102:$O$102,1):INDEX(Calc!$D$102:$O$102,mSel)))/ABS(SUM(INDEX(Calc!$D$102:$O$102,1):INDEX(Calc!$D$102:$O$102,mSel))),0) -> -0.14767499 | Q17: =SUM(Calc!$D$127:$O$127) -> -32.116 | R17: =SUM(Calc!$D$52:$O$52) -> -30.676 | S17: =Q17-R17 -> -1.44 | T17: =IFERROR(S17/ABS(R17),0) -> -0.046942235
B18: Direct selling | C18: =INDEX(Calc!$D$128:$O$128,mSel) -> -1.603 | D18: =INDEX(Calc!$D$53:$O$53,mSel) -> -1.611 | E18: =C18-D18 -> 0.008 | F18: =IFERROR(E18/ABS(D18),0) -> 0.0049658597 | G18: =C18-INDEX(Calc!$D$78:$O$78,mSel) -> 0.007 | H18: =IFERROR((C18-INDEX(Calc!$D$103:$O$103,mSel))/ABS(INDEX(Calc!$D$103:$O$103,mSel)),0) -> -0.072958501 | J18: =SUM(INDEX(Calc!$D$128:$O$128,1):INDEX(Calc!$D$128:$O$128,mSel)) -> -13.129 | K18: =SUM(INDEX(Calc!$D$53:$O$53,1):INDEX(Calc!$D$53:$O$53,mSel)) -> -13.161 | L18: =J18-K18 -> 0.032 | M18: =IFERROR(L18/ABS(K18),0) -> 0.0024314262 | N18: =J18-SUM(INDEX(Calc!$D$78:$O$78,1):INDEX(Calc!$D$78:$O$78,mSel)) -> 0.009 | O18: =IFERROR((J18-SUM(INDEX(Calc!$D$103:$O$103,1):INDEX(Calc!$D$103:$O$103,mSel)))/ABS(SUM(INDEX(Calc!$D$103:$O$103,1):INDEX(Calc!$D$103:$O$103,mSel))),0) -> -0.080754034 | Q18: =SUM(Calc!$D$128:$O$128) -> -16.411 | R18: =SUM(Calc!$D$53:$O$53) -> -16.45 | S18: =Q18-R18 -> 0.039 | T18: =IFERROR(S18/ABS(R18),0) -> 0.0023708207
B19: Contribution margin | C19: =INDEX(Calc!$D$149:$O$149,mSel) -> 19.354 | D19: =INDEX(Calc!$D$161:$O$161,mSel) -> 19.909 | E19: =C19-D19 -> -0.555 | F19: =IFERROR(E19/ABS(D19),0) -> -0.02787684 | G19: =C19-INDEX(Calc!$D$173:$O$173,mSel) -> -0.209 | H19: =IFERROR((C19-INDEX(Calc!$D$185:$O$185,mSel))/ABS(INDEX(Calc!$D$185:$O$185,mSel)),0) -> 0.044581174 | J19: =SUM(INDEX(Calc!$D$149:$O$149,1):INDEX(Calc!$D$149:$O$149,mSel)) -> 158.595 | K19: =SUM(INDEX(Calc!$D$161:$O$161,1):INDEX(Calc!$D$161:$O$161,mSel)) -> 162.511 | L19: =J19-K19 -> -3.916 | M19: =IFERROR(L19/ABS(K19),0) -> -0.02409683 | N19: =J19-SUM(INDEX(Calc!$D$173:$O$173,1):INDEX(Calc!$D$173:$O$173,mSel)) -> -1.161 | O19: =IFERROR((J19-SUM(INDEX(Calc!$D$185:$O$185,1):INDEX(Calc!$D$185:$O$185,mSel)))/ABS(SUM(INDEX(Calc!$D$185:$O$185,1):INDEX(Calc!$D$185:$O$185,mSel))),0) -> 0.051642165 | Q19: =SUM(Calc!$D$149:$O$149) -> 198.305 | R19: =SUM(Calc!$D$161:$O$161) -> 203.12 | S19: =Q19-R19 -> -4.815 | T19: =IFERROR(S19/ABS(R19),0) -> -0.023705199
B20: Personnel | C20: =INDEX(Calc!$D$129:$O$129,mSel) -> -4.39 | D20: =INDEX(Calc!$D$54:$O$54,mSel) -> -4.299 | E20: =C20-D20 -> -0.091 | F20: =IFERROR(E20/ABS(D20),0) -> -0.021167713 | G20: =C20-INDEX(Calc!$D$79:$O$79,mSel) -> -0.018 | H20: =IFERROR((C20-INDEX(Calc!$D$104:$O$104,mSel))/ABS(INDEX(Calc!$D$104:$O$104,mSel)),0) -> -0.069167073 | J20: =SUM(INDEX(Calc!$D$129:$O$129,1):INDEX(Calc!$D$129:$O$129,mSel)) -> -43.135 | K20: =SUM(INDEX(Calc!$D$54:$O$54,1):INDEX(Calc!$D$54:$O$54,mSel)) -> -42.247 | L20: =J20-K20 -> -0.888 | M20: =IFERROR(L20/ABS(K20),0) -> -0.021019244 | N20: =J20-SUM(INDEX(Calc!$D$79:$O$79,1):INDEX(Calc!$D$79:$O$79,mSel)) -> -0.178 | O20: =IFERROR((J20-SUM(INDEX(Calc!$D$104:$O$104,1):INDEX(Calc!$D$104:$O$104,mSel)))/ABS(SUM(INDEX(Calc!$D$104:$O$104,1):INDEX(Calc!$D$104:$O$104,mSel))),0) -> -0.069127051 | Q20: =SUM(Calc!$D$129:$O$129) -> -51.929 | R20: =SUM(Calc!$D$54:$O$54) -> -50.896 | S20: =Q20-R20 -> -1.033 | T20: =IFERROR(S20/ABS(R20),0) -> -0.02029629 | V20: Dummy text. Personnel -0.9m: pay award above budget, partly offset by open vacancies.
B21: Research and development | C21: =INDEX(Calc!$D$130:$O$130,mSel) -> -1 | D21: =INDEX(Calc!$D$55:$O$55,mSel) -> -1.02 | E21: =C21-D21 -> 0.02 | F21: =IFERROR(E21/ABS(D21),0) -> 0.019607843 | G21: =C21-INDEX(Calc!$D$80:$O$80,mSel) -> 0.004 | H21: =IFERROR((C21-INDEX(Calc!$D$105:$O$105,mSel))/ABS(INDEX(Calc!$D$105:$O$105,mSel)),0) -> -0.026694045 | J21: =SUM(INDEX(Calc!$D$130:$O$130,1):INDEX(Calc!$D$130:$O$130,mSel)) -> -10 | K21: =SUM(INDEX(Calc!$D$55:$O$55,1):INDEX(Calc!$D$55:$O$55,mSel)) -> -10.2 | L21: =J21-K21 -> 0.2 | M21: =IFERROR(L21/ABS(K21),0) -> 0.019607843 | N21: =J21-SUM(INDEX(Calc!$D$80:$O$80,1):INDEX(Calc!$D$80:$O$80,mSel)) -> 0.04 | O21: =IFERROR((J21-SUM(INDEX(Calc!$D$105:$O$105,1):INDEX(Calc!$D$105:$O$105,mSel)))/ABS(SUM(INDEX(Calc!$D$105:$O$105,1):INDEX(Calc!$D$105:$O$105,mSel))),0) -> -0.026694045 | Q21: =SUM(Calc!$D$130:$O$130) -> -12.008 | R21: =SUM(Calc!$D$55:$O$55) -> -12.24 | S21: =Q21-R21 -> 0.232 | T21: =IFERROR(S21/ABS(R21),0) -> 0.018954248
B22: IT and facilities | C22: =INDEX(Calc!$D$131:$O$131,mSel) -> -1.28 | D22: =INDEX(Calc!$D$56:$O$56,mSel) -> -1.32 | E22: =C22-D22 -> 0.04 | F22: =IFERROR(E22/ABS(D22),0) -> 0.03030303 | G22: =C22-INDEX(Calc!$D$81:$O$81,mSel) -> 0.008 | H22: =IFERROR((C22-INDEX(Calc!$D$106:$O$106,mSel))/ABS(INDEX(Calc!$D$106:$O$106,mSel)),0) -> -0.015067407 | J22: =SUM(INDEX(Calc!$D$131:$O$131,1):INDEX(Calc!$D$131:$O$131,mSel)) -> -12.8 | K22: =SUM(INDEX(Calc!$D$56:$O$56,1):INDEX(Calc!$D$56:$O$56,mSel)) -> -13.2 | L22: =J22-K22 -> 0.4 | M22: =IFERROR(L22/ABS(K22),0) -> 0.03030303 | N22: =J22-SUM(INDEX(Calc!$D$81:$O$81,1):INDEX(Calc!$D$81:$O$81,mSel)) -> 0.08 | O22: =IFERROR((J22-SUM(INDEX(Calc!$D$106:$O$106,1):INDEX(Calc!$D$106:$O$106,mSel)))/ABS(SUM(INDEX(Calc!$D$106:$O$106,1):INDEX(Calc!$D$106:$O$106,mSel))),0) -> -0.015067407 | Q22: =SUM(Calc!$D$131:$O$131) -> -15.376 | R22: =SUM(Calc!$D$56:$O$56) -> -15.84 | S22: =Q22-R22 -> 0.464 | T22: =IFERROR(S22/ABS(R22),0) -> 0.029292929
B23: Other admin | C23: =INDEX(Calc!$D$132:$O$132,mSel) -> -1.085 | D23: =INDEX(Calc!$D$57:$O$57,mSel) -> -1.13 | E23: =C23-D23 -> 0.045 | F23: =IFERROR(E23/ABS(D23),0) -> 0.039823009 | G23: =C23-INDEX(Calc!$D$82:$O$82,mSel) -> 0.009 | H23: =IFERROR((C23-INDEX(Calc!$D$107:$O$107,mSel))/ABS(INDEX(Calc!$D$107:$O$107,mSel)),0) -> -0.0055607044 | J23: =SUM(INDEX(Calc!$D$132:$O$132,1):INDEX(Calc!$D$132:$O$132,mSel)) -> -10.85 | K23: =SUM(INDEX(Calc!$D$57:$O$57,1):INDEX(Calc!$D$57:$O$57,mSel)) -> -11.3 | L23: =J23-K23 -> 0.45 | M23: =IFERROR(L23/ABS(K23),0) -> 0.039823009 | N23: =J23-SUM(INDEX(Calc!$D$82:$O$82,1):INDEX(Calc!$D$82:$O$82,mSel)) -> 0.09 | O23: =IFERROR((J23-SUM(INDEX(Calc!$D$107:$O$107,1):INDEX(Calc!$D$107:$O$107,mSel)))/ABS(SUM(INDEX(Calc!$D$107:$O$107,1):INDEX(Calc!$D$107:$O$107,mSel))),0) -> -0.0055607044 | Q23: =SUM(Calc!$D$132:$O$132) -> -13.038 | R23: =SUM(Calc!$D$57:$O$57) -> -13.56 | S23: =Q23-R23 -> 0.522 | T23: =IFERROR(S23/ABS(R23),0) -> 0.038495575
B24: EBITDA | C24: =INDEX(Calc!$D$151:$O$151,mSel) -> 11.599 | D24: =INDEX(Calc!$D$163:$O$163,mSel) -> 12.14 | E24: =C24-D24 -> -0.541 | F24: =IFERROR(E24/ABS(D24),0) -> -0.044563427 | G24: =C24-INDEX(Calc!$D$175:$O$175,mSel) -> -0.206 | H24: =IFERROR((C24-INDEX(Calc!$D$187:$O$187,mSel))/ABS(INDEX(Calc!$D$187:$O$187,mSel)),0) -> 0.044202377 | J24: =SUM(INDEX(Calc!$D$151:$O$151,1):INDEX(Calc!$D$151:$O$151,mSel)) -> 81.81 | K24: =SUM(INDEX(Calc!$D$163:$O$163,1):INDEX(Calc!$D$163:$O$163,mSel)) -> 85.564 | L24: =J24-K24 -> -3.754 | M24: =IFERROR(L24/ABS(K24),0) -> -0.043873592 | N24: =J24-SUM(INDEX(Calc!$D$175:$O$175,1):INDEX(Calc!$D$175:$O$175,mSel)) -> -1.129 | O24: =IFERROR((J24-SUM(INDEX(Calc!$D$187:$O$187,1):INDEX(Calc!$D$187:$O$187,mSel)))/ABS(SUM(INDEX(Calc!$D$187:$O$187,1):INDEX(Calc!$D$187:$O$187,mSel))),0) -> 0.058056673 | Q24: =SUM(Calc!$D$151:$O$151) -> 105.954 | R24: =SUM(Calc!$D$163:$O$163) -> 110.584 | S24: =Q24-R24 -> -4.63 | T24: =IFERROR(S24/ABS(R24),0) -> -0.041868625 | V24: Dummy text. See key messages below. Bridge shows what moved EBITDA against budget.
B25: Depreciation and amortisation | C25: =INDEX(Calc!$D$133:$O$133,mSel) -> -1.48 | D25: =INDEX(Calc!$D$58:$O$58,mSel) -> -1.48 | E25: =C25-D25 -> 0 | F25: =IFERROR(E25/ABS(D25),0) -> 0 | G25: =C25-INDEX(Calc!$D$83:$O$83,mSel) -> 0 | H25: =IFERROR((C25-INDEX(Calc!$D$108:$O$108,mSel))/ABS(INDEX(Calc!$D$108:$O$108,mSel)),0) -> -0.047416844 | J25: =SUM(INDEX(Calc!$D$133:$O$133,1):INDEX(Calc!$D$133:$O$133,mSel)) -> -14.8 | K25: =SUM(INDEX(Calc!$D$58:$O$58,1):INDEX(Calc!$D$58:$O$58,mSel)) -> -14.8 | L25: =J25-K25 -> 0 | M25: =IFERROR(L25/ABS(K25),0) -> 0 | N25: =J25-SUM(INDEX(Calc!$D$83:$O$83,1):INDEX(Calc!$D$83:$O$83,mSel)) -> 0 | O25: =IFERROR((J25-SUM(INDEX(Calc!$D$108:$O$108,1):INDEX(Calc!$D$108:$O$108,mSel)))/ABS(SUM(INDEX(Calc!$D$108:$O$108,1):INDEX(Calc!$D$108:$O$108,mSel))),0) -> -0.047416844 | Q25: =SUM(Calc!$D$133:$O$133) -> -17.76 | R25: =SUM(Calc!$D$58:$O$58) -> -17.76 | S25: =Q25-R25 -> 0 | T25: =IFERROR(S25/ABS(R25),0) -> 0
B26: EBIT | C26: =INDEX(Calc!$D$152:$O$152,mSel) -> 10.119 | D26: =INDEX(Calc!$D$164:$O$164,mSel) -> 10.66 | E26: =C26-D26 -> -0.541 | F26: =IFERROR(E26/ABS(D26),0) -> -0.050750469 | G26: =C26-INDEX(Calc!$D$176:$O$176,mSel) -> -0.206 | H26: =IFERROR((C26-INDEX(Calc!$D$188:$O$188,mSel))/ABS(INDEX(Calc!$D$188:$O$188,mSel)),0) -> 0.043733883 | J26: =SUM(INDEX(Calc!$D$152:$O$152,1):INDEX(Calc!$D$152:$O$152,mSel)) -> 67.01 | K26: =SUM(INDEX(Calc!$D$164:$O$164,1):INDEX(Calc!$D$164:$O$164,mSel)) -> 70.764 | L26: =J26-K26 -> -3.754 | M26: =IFERROR(L26/ABS(K26),0) -> -0.053049573 | N26: =J26-SUM(INDEX(Calc!$D$176:$O$176,1):INDEX(Calc!$D$176:$O$176,mSel)) -> -1.129 | O26: =IFERROR((J26-SUM(INDEX(Calc!$D$188:$O$188,1):INDEX(Calc!$D$188:$O$188,mSel)))/ABS(SUM(INDEX(Calc!$D$188:$O$188,1):INDEX(Calc!$D$188:$O$188,mSel))),0) -> 0.060435822 | Q26: =SUM(Calc!$D$152:$O$152) -> 88.194 | R26: =SUM(Calc!$D$164:$O$164) -> 92.824 | S26: =Q26-R26 -> -4.63 | T26: =IFERROR(S26/ABS(R26),0) -> -0.049879342
B27: Net interest | C27: =INDEX(Calc!$D$134:$O$134,mSel) -> -0.684 | D27: =INDEX(Calc!$D$59:$O$59,mSel) -> -0.684 | E27: =C27-D27 -> 0 | F27: =IFERROR(E27/ABS(D27),0) -> 0 | G27: =C27-INDEX(Calc!$D$84:$O$84,mSel) -> 0 | H27: =IFERROR((C27-INDEX(Calc!$D$109:$O$109,mSel))/ABS(INDEX(Calc!$D$109:$O$109,mSel)),0) -> 0.052631579 | J27: =SUM(INDEX(Calc!$D$134:$O$134,1):INDEX(Calc!$D$134:$O$134,mSel)) -> -7.011 | K27: =SUM(INDEX(Calc!$D$59:$O$59,1):INDEX(Calc!$D$59:$O$59,mSel)) -> -7.011 | L27: =J27-K27 -> 0 | M27: =IFERROR(L27/ABS(K27),0) -> 0 | N27: =J27-SUM(INDEX(Calc!$D$84:$O$84,1):INDEX(Calc!$D$84:$O$84,mSel)) -> 0 | O27: =IFERROR((J27-SUM(INDEX(Calc!$D$109:$O$109,1):INDEX(Calc!$D$109:$O$109,mSel)))/ABS(SUM(INDEX(Calc!$D$109:$O$109,1):INDEX(Calc!$D$109:$O$109,mSel))),0) -> 0.051028695 | Q27: =SUM(Calc!$D$134:$O$134) -> -8.379 | R27: =SUM(Calc!$D$59:$O$59) -> -8.379 | S27: =Q27-R27 -> 0 | T27: =IFERROR(S27/ABS(R27),0) -> 0
B28: Profit before tax | C28: =INDEX(Calc!$D$153:$O$153,mSel) -> 9.435 | D28: =INDEX(Calc!$D$165:$O$165,mSel) -> 9.976 | E28: =C28-D28 -> -0.541 | F28: =IFERROR(E28/ABS(D28),0) -> -0.054230152 | G28: =C28-INDEX(Calc!$D$177:$O$177,mSel) -> -0.206 | H28: =IFERROR((C28-INDEX(Calc!$D$189:$O$189,mSel))/ABS(INDEX(Calc!$D$189:$O$189,mSel)),0) -> 0.051487797 | J28: =SUM(INDEX(Calc!$D$153:$O$153,1):INDEX(Calc!$D$153:$O$153,mSel)) -> 59.999 | K28: =SUM(INDEX(Calc!$D$165:$O$165,1):INDEX(Calc!$D$165:$O$165,mSel)) -> 63.753 | L28: =J28-K28 -> -3.754 | M28: =IFERROR(L28/ABS(K28),0) -> -0.058883504 | N28: =J28-SUM(INDEX(Calc!$D$177:$O$177,1):INDEX(Calc!$D$177:$O$177,mSel)) -> -1.129 | O28: =IFERROR((J28-SUM(INDEX(Calc!$D$189:$O$189,1):INDEX(Calc!$D$189:$O$189,mSel)))/ABS(SUM(INDEX(Calc!$D$189:$O$189,1):INDEX(Calc!$D$189:$O$189,mSel))),0) -> 0.07519309 | Q28: =SUM(Calc!$D$153:$O$153) -> 79.815 | R28: =SUM(Calc!$D$165:$O$165) -> 84.445 | S28: =Q28-R28 -> -4.63 | T28: =IFERROR(S28/ABS(R28),0) -> -0.054828587
B29: Tax | C29: =INDEX(Calc!$D$135:$O$135,mSel) -> -2.359 | D29: =INDEX(Calc!$D$60:$O$60,mSel) -> -2.493 | E29: =C29-D29 -> 0.134 | F29: =IFERROR(E29/ABS(D29),0) -> 0.053750501 | G29: =C29-INDEX(Calc!$D$85:$O$85,mSel) -> 0.052 | H29: =IFERROR((C29-INDEX(Calc!$D$110:$O$110,mSel))/ABS(INDEX(Calc!$D$110:$O$110,mSel)),0) -> -0.051247772 | J29: =SUM(INDEX(Calc!$D$135:$O$135,1):INDEX(Calc!$D$135:$O$135,mSel)) -> -15.004 | K29: =SUM(INDEX(Calc!$D$60:$O$60,1):INDEX(Calc!$D$60:$O$60,mSel)) -> -15.936 | L29: =J29-K29 -> 0.932 | M29: =IFERROR(L29/ABS(K29),0) -> 0.058483936 | N29: =J29-SUM(INDEX(Calc!$D$85:$O$85,1):INDEX(Calc!$D$85:$O$85,mSel)) -> 0.28 | O29: =IFERROR((J29-SUM(INDEX(Calc!$D$110:$O$110,1):INDEX(Calc!$D$110:$O$110,mSel)))/ABS(SUM(INDEX(Calc!$D$110:$O$110,1):INDEX(Calc!$D$110:$O$110,mSel))),0) -> -0.075555556 | Q29: =SUM(Calc!$D$135:$O$135) -> -19.958 | R29: =SUM(Calc!$D$60:$O$60) -> -21.113 | S29: =Q29-R29 -> 1.155 | T29: =IFERROR(S29/ABS(R29),0) -> 0.054705632
B30: Net income | C30: =INDEX(Calc!$D$154:$O$154,mSel) -> 7.076 | D30: =INDEX(Calc!$D$166:$O$166,mSel) -> 7.483 | E30: =C30-D30 -> -0.407 | F30: =IFERROR(E30/ABS(D30),0) -> -0.054389951 | G30: =C30-INDEX(Calc!$D$178:$O$178,mSel) -> -0.154 | H30: =IFERROR((C30-INDEX(Calc!$D$190:$O$190,mSel))/ABS(INDEX(Calc!$D$190:$O$190,mSel)),0) -> 0.051567841 | J30: =SUM(INDEX(Calc!$D$154:$O$154,1):INDEX(Calc!$D$154:$O$154,mSel)) -> 44.995 | K30: =SUM(INDEX(Calc!$D$166:$O$166,1):INDEX(Calc!$D$166:$O$166,mSel)) -> 47.817 | L30: =J30-K30 -> -2.822 | M30: =IFERROR(L30/ABS(K30),0) -> -0.059016668 | N30: =J30-SUM(INDEX(Calc!$D$178:$O$178,1):INDEX(Calc!$D$178:$O$178,mSel)) -> -0.849 | O30: =IFERROR((J30-SUM(INDEX(Calc!$D$190:$O$190,1):INDEX(Calc!$D$190:$O$190,mSel)))/ABS(SUM(INDEX(Calc!$D$190:$O$190,1):INDEX(Calc!$D$190:$O$190,mSel))),0) -> 0.075072277 | Q30: =SUM(Calc!$D$154:$O$154) -> 59.857 | R30: =SUM(Calc!$D$166:$O$166) -> 63.332 | S30: =Q30-R30 -> -3.475 | T30: =IFERROR(S30/ABS(R30),0) -> -0.054869576
B31: Gross margin % | C31: =IFERROR(C14/C10,0) -> 0.56094196 | D31: =IFERROR(D14/D10,0) -> 0.56989648 | E31: =(C31-D31)*100 -> -0.8954514 | G31: =(C31-IFERROR(INDEX(Calc!$D$170:$O$170,mSel)/INDEX(Calc!$D$168:$O$168,mSel),0))*100 -> -0.23849561 | H31: =(C31-IFERROR(INDEX(Calc!$D$182:$O$182,mSel)/INDEX(Calc!$D$180:$O$180,mSel),0))*100 -> -1.7715435 | J31: =IFERROR(J14/J10,0) -> 0.56085858 | K31: =IFERROR(K14/K10,0) -> 0.56983541 | L31: =(J31-K31)*100 -> -0.89768276 | N31: =(J31-IFERROR(SUM(INDEX(Calc!$D$170:$O$170,1):INDEX(Calc!$D$170:$O$170,mSel))/SUM(INDEX(Calc!$D$168:$O$168,1):INDEX(Calc!$D$168:$O$168,mSel)),0))*100 -> -0.24853063 | O31: =(J31-IFERROR(SUM(INDEX(Calc!$D$182:$O$182,1):INDEX(Calc!$D$182:$O$182,mSel))/SUM(INDEX(Calc!$D$180:$O$180,1):INDEX(Calc!$D$180:$O$180,mSel)),0))*100 -> -1.7598085 | Q31: =IFERROR(Q14/Q10,0) -> 0.56092129 | R31: =IFERROR(R14/R10,0) -> 0.56982168 | S31: =(Q31-R31)*100 -> -0.89003879
B32: Contribution margin % | C32: =IFERROR(C19/C10,0) -> 0.38139718 | D32: =IFERROR(D19/D10,0) -> 0.39034193 | E32: =(C32-D32)*100 -> -0.8944752 | G32: =(C32-IFERROR(INDEX(Calc!$D$173:$O$173,mSel)/INDEX(Calc!$D$168:$O$168,mSel),0))*100 -> -0.26277876 | H32: =(C32-IFERROR(INDEX(Calc!$D$185:$O$185,mSel)/INDEX(Calc!$D$180:$O$180,mSel),0))*100 -> -1.1211735 | J32: =IFERROR(J19/J10,0) -> 0.38163246 | K32: =IFERROR(K19/K10,0) -> 0.39025556 | L32: =(J32-K32)*100 -> -0.86231014 | N32: =(J32-IFERROR(SUM(INDEX(Calc!$D$173:$O$173,1):INDEX(Calc!$D$173:$O$173,mSel))/SUM(INDEX(Calc!$D$168:$O$168,1):INDEX(Calc!$D$168:$O$168,mSel)),0))*100 -> -0.23899276 | O32: =(J32-IFERROR(SUM(INDEX(Calc!$D$185:$O$185,1):INDEX(Calc!$D$185:$O$185,mSel))/SUM(INDEX(Calc!$D$180:$O$180,1):INDEX(Calc!$D$180:$O$180,mSel)),0))*100 -> -1.0565048 | Q32: =IFERROR(Q19/Q10,0) -> 0.38170003 | R32: =IFERROR(R19/R10,0) -> 0.39022066 | S32: =(Q32-R32)*100 -> -0.85206281
B33: EBITDA margin % | C33: =IFERROR(C24/C10,0) -> 0.22857424 | D33: =IFERROR(D24/D10,0) -> 0.23802055 | E33: =(C33-D33)*100 -> -0.94463036 | G33: =(C33-IFERROR(INDEX(Calc!$D$175:$O$175,mSel)/INDEX(Calc!$D$168:$O$168,mSel),0))*100 -> -0.31598852 | H33: =(C33-IFERROR(INDEX(Calc!$D$187:$O$187,mSel)/INDEX(Calc!$D$180:$O$180,mSel),0))*100 -> -0.6804634 | J33: =IFERROR(J24/J10,0) -> 0.19686214 | K33: =IFERROR(K24/K10,0) -> 0.20547425 | L33: =(J33-K33)*100 -> -0.86121133 | N33: =(J33-IFERROR(SUM(INDEX(Calc!$D$175:$O$175,1):INDEX(Calc!$D$175:$O$175,mSel))/SUM(INDEX(Calc!$D$168:$O$168,1):INDEX(Calc!$D$168:$O$168,mSel)),0))*100 -> -0.25071002 | O33: =(J33-IFERROR(SUM(INDEX(Calc!$D$187:$O$187,1):INDEX(Calc!$D$187:$O$187,mSel))/SUM(INDEX(Calc!$D$180:$O$180,1):INDEX(Calc!$D$180:$O$180,mSel)),0))*100 -> -0.42233737 | Q33: =IFERROR(Q24/Q10,0) -> 0.20394163 | R33: =IFERROR(R24/R10,0) -> 0.21244664 | S33: =(Q33-R33)*100 -> -0.85050085
B34: EBIT margin % | C34: =IFERROR(C26/C10,0) -> 0.19940881 | D34: =IFERROR(D26/D10,0) -> 0.20900322 | E34: =(C34-D34)*100 -> -0.95944067 | G34: =(C34-IFERROR(INDEX(Calc!$D$176:$O$176,mSel)/INDEX(Calc!$D$168:$O$168,mSel),0))*100 -> -0.32726722 | H34: =(C34-IFERROR(INDEX(Calc!$D$188:$O$188,mSel)/INDEX(Calc!$D$180:$O$180,mSel),0))*100 -> -0.60285535 | J34: =IFERROR(J26/J10,0) -> 0.16124841 | K34: =IFERROR(K26/K10,0) -> 0.16993338 | L34: =(J34-K34)*100 -> -0.86849791 | N34: =(J34-IFERROR(SUM(INDEX(Calc!$D$176:$O$176,1):INDEX(Calc!$D$176:$O$176,mSel))/SUM(INDEX(Calc!$D$168:$O$168,1):INDEX(Calc!$D$168:$O$168,mSel)),0))*100 -> -0.25445111 | O34: =(J34-IFERROR(SUM(INDEX(Calc!$D$188:$O$188,1):INDEX(Calc!$D$188:$O$188,mSel))/SUM(INDEX(Calc!$D$180:$O$180,1):INDEX(Calc!$D$180:$O$180,mSel)),0))*100 -> -0.30898046 | Q34: =IFERROR(Q26/Q10,0) -> 0.16975695 | R34: =IFERROR(R26/R10,0) -> 0.17832731 | S34: =(Q34-R34)*100 -> -0.85703535
B35: Net income margin % | C35: =IFERROR(C30/C10,0) -> 0.13944231 | D35: =IFERROR(D30/D10,0) -> 0.14671398 | E35: =(C35-D35)*100 -> -0.72716736 | G35: =(C35-IFERROR(INDEX(Calc!$D$178:$O$178,mSel)/INDEX(Calc!$D$168:$O$168,mSel),0))*100 -> -0.24838025 | H35: =(C35-IFERROR(INDEX(Calc!$D$190:$O$190,mSel)/INDEX(Calc!$D$180:$O$180,mSel),0))*100 -> -0.31454171 | J35: =IFERROR(J30/J10,0) -> 0.10827297 | K35: =IFERROR(K30/K10,0) -> 0.11482823 | L35: =(J35-K35)*100 -> -0.65552527 | N35: =(J35-IFERROR(SUM(INDEX(Calc!$D$178:$O$178,1):INDEX(Calc!$D$178:$O$178,mSel))/SUM(INDEX(Calc!$D$168:$O$168,1):INDEX(Calc!$D$168:$O$168,mSel)),0))*100 -> -0.19270943 | O35: =(J35-IFERROR(SUM(INDEX(Calc!$D$190:$O$190,1):INDEX(Calc!$D$190:$O$190,mSel))/SUM(INDEX(Calc!$D$180:$O$180,1):INDEX(Calc!$D$180:$O$180,mSel)),0))*100 -> -0.057238518 | Q35: =IFERROR(Q30/Q10,0) -> 0.11521353 | R35: =IFERROR(R30/R10,0) -> 0.12166923 | S35: =(Q35-R35)*100 -> -0.64557055
B37: Executive commentary (type over the yellow cells) | Q37: Risks and opportunities to the full-year EBITDA outlook
B38: Key message | C38: Dummy text. Net revenue is -0.9m vs budget year to date. Marketplaces and Aurelia are ahead; Hypermarkets and Everwood are behind. Replace with your own view each month. | Q38: Type | R38: Impact | S38: Prob. | T38: Weighted | V38: Item and owner
Q39: Risk | R39: -1.8 | S39: 0.6 | T39: =R39*S39 -> -1.08 | V39: Dummy: Discounter trade terms renewal above plan (Sales)
Q40: Risk | R40: -1.2 | S40: 0.4 | T40: =R40*S40 -> -0.48 | V40: Dummy: Freight rates stay elevated into Q4 (Supply Chain)
B41: What changed vs forecast | C41: Dummy text. Actuals moved broadly as the last forecast expected. Marketplaces came in a little ahead and the Everwood recovery was slower. | Q41: Risk | R41: -0.9 | S41: 0.3 | T41: =R41*S41 -> -0.27 | V41: Dummy: Everwood clearance to reduce excess stock (Commercial)
Q42: Opp | R42: 1.5 | S42: 0.5 | T42: =R42*S42 -> 0.75 | V42: Dummy: Marketplaces peak-season momentum (E-commerce)
...

Sheet Channel
B2: =Company&": Channel profitability" -> Coskun Finance: Channel profitability
B3: =PerLbl&" | "&UnitLbl&" | period set on Summary" -> YTD Oct 2026 | $m | period set on Summary
B4: Summary | D4: P&L | F4: Channel | H4: Brand | J4: Data | L4: Guide
B5: ="Channel scoreboard: "&PerLbl -> Channel scoreboard: YTD Oct 2026 | V5: Focus channel: | W5: Marketplaces
B6: LARGEST CHANNEL | F6: HIGHEST CM % | J6: LOWEST CM % | N6: BIGGEST BEAT VS BUDGET | R6: BIGGEST MISS VS BUDGET | V6: TOTAL CONTRIBUTION MARGIN
B7: =INDEX($B$14:$B$19,MATCH(MAX($E$14:$E$19),$E$14:$E$19,0)) -> Hypermarkets | F7: =INDEX($B$14:$B$19,MATCH(MAX($R$14:$R$19),$R$14:$R$19,0)) -> Distributors | J7: =INDEX($B$14:$B$19,MATCH(MIN($R$14:$R$19),$R$14:$R$19,0)) -> Discounters | N7: =INDEX($B$14:$B$19,MATCH(MAX($G$14:$G$19),$G$14:$G$19,0)) -> Marketplaces | R7: =INDEX($B$14:$B$19,MATCH(MIN($G$14:$G$19),$G$14:$G$19,0)) -> Hypermarkets | V7: =$O$20 -> 158.595
B9: =UnitLbl&" "&FIXED(MAX($E$14:$E$19),1)&" | "&FIXED(INDEX($K$14:$K$19,MATCH(MAX($E$14:$E$19),$E$14:$E$19,0))*100,1)&"% of net revenue" -> $m 114.3 | 27.5% of net revenue | F9: ="CM "&FIXED(MAX($R$14:$R$19)*100,1)&"% vs total "&FIXED($R$20*100,1)&"%" -> CM 46.9% vs total 38.2% | J9: ="CM "&FIXED(MIN($R$14:$R$19)*100,1)&"%, gap to total "&FIXED(($R$20-MIN($R$14:$R$19))*100,1)&"pp" -> CM 35.2%, gap to total 3.0pp | N9: =IF(MAX($G$14:$G$19)>=0,"+","-")&FIXED(ABS(MAX($G$14:$G$19)),1)&" "&UnitLbl&" net revenue" -> +5.9 $m net revenue | R9: =IF(MIN($G$14:$G$19)>=0,"+","-")&FIXED(ABS(MIN($G$14:$G$19)),1)&" "&UnitLbl&" net revenue" -> -5.9 $m net revenue | V9: ="CM % "&FIXED($R$20*100,1)&"%, "&IF($T$20>=0,"+","-")&FIXED(ABS($T$20),1)&"pp vs budget" -> CM % 38.2%, -0.9pp vs budget
B12: Channel scorecard, ranked by net revenue
B13: Channel | E13: ="NR "&AcLbl -> NR Actual | F13: NR Budget | G13: Var vs BU | H13: Var % vs BU | I13: Var % vs FC | J13: Var % vs PY | K13: Mix % | L13: Gross margin | M13: Trade rate % GS | N13: Cost to serve % | O13: ="CM "&AcLbl -> CM Actual | P13: CM Budget | Q13: CM var vs BU | R13: CM % | S13: CM % Budget | T13: CM % var | U13: DSO days | V13: Net revenue trend (Jan to Dec)
B14: =INDEX(lstChannel,Calc!$C$374) -> Hypermarkets | E14: =INDEX(Calc!$G$346:$G$351,Calc!$C$374) -> 114.257 | F14: =INDEX(Calc!$G$353:$G$358,Calc!$C$374) -> 120.205 | G14: =E14-F14 -> -5.948 | H14: =IFERROR(G14/ABS(F14),0) -> -0.049482135 | I14: =IFERROR(E14/INDEX(Calc!$G$360:$G$365,Calc!$C$374)-1,0) -> -0.012036421 | J14: =IFERROR(E14/INDEX(Calc!$G$367:$G$372,Calc!$C$374)-1,0) -> 0.013797448 | K14: =IFERROR(E14/E$20,0) -> 0.27494044 | L14: =IFERROR(INDEX(Calc!$I$346:$I$351,Calc!$C$374)/E14,0) -> 0.54134101 | M14: =IFERROR(-(INDEX(Calc!$E$346:$E$351,Calc!$C$374)+INDEX(Calc!$F$346:$F$351,Calc!$C$374))/INDEX(Calc!$D$346:$D$351,Calc!$C$374),0) -> 0.21102495 | N14: =IFERROR(-INDEX(Calc!$K$346:$K$351,Calc!$C$374)/E14,0) -> 0.090261428 | O14: =INDEX(Calc!$L$346:$L$351,Calc!$C$374) -> 40.838 | P14: =INDEX(Calc!$L$353:$L$358,Calc!$C$374) -> 44.757 | Q14: =O14-P14 -> -3.919 | R14: =IFERROR(O14/E14,0) -> 0.3574223 | S14: =IFERROR(P14/F14,0) -> 0.37233892 | T14: =(R14-S14)*100 -> -1.4916619 | U14: =IFERROR(INDEX(Calc!$M$346:$M$351,Calc!$C$374)/INDEX(Calc!$N$346:$N$351,Calc!$C$374)*30.4*WinM,0) -> 58.001327
B15: =INDEX(lstChannel,Calc!$C$375) -> Supermarkets | E15: =INDEX(Calc!$G$346:$G$351,Calc!$C$375) -> 100.114 | F15: =INDEX(Calc!$G$353:$G$358,Calc!$C$375) -> 100.15 | G15: =E15-F15 -> -0.036 | H15: =IFERROR(G15/ABS(F15),0) -> -0.00035946081 | I15: =IFERROR(E15/INDEX(Calc!$G$360:$G$365,Calc!$C$375)-1,0) -> -0.0038011463 | J15: =IFERROR(E15/INDEX(Calc!$G$367:$G$372,Calc!$C$375)-1,0) -> 0.064114283 | K15: =IFERROR(E15/E$20,0) -> 0.24090767 | L15: =IFERROR(INDEX(Calc!$I$346:$I$351,Calc!$C$375)/E15,0) -> 0.56173962 | M15: =IFERROR(-(INDEX(Calc!$E$346:$E$351,Calc!$C$375)+INDEX(Calc!$F$346:$F$351,Calc!$C$375))/INDEX(Calc!$D$346:$D$351,Calc!$C$375),0) -> 0.17399053 | N15: =IFERROR(-INDEX(Calc!$K$346:$K$351,Calc!$C$375)/E15,0) -> 0.086171764 | O15: =INDEX(Calc!$L$346:$L$351,Calc!$C$375) -> 39.053 | P15: =INDEX(Calc!$L$353:$L$358,Calc!$C$375) -> 39.795 | Q15: =O15-P15 -> -0.742 | R15: =IFERROR(O15/E15,0) -> 0.3900853 | S15: =IFERROR(P15/F15,0) -> 0.39735397 | T15: =(R15-S15)*100 -> -0.72686663 | U15: =IFERROR(INDEX(Calc!$M$346:$M$351,Calc!$C$375)/INDEX(Calc!$N$346:$N$351,Calc!$C$375)*30.4*WinM,0) -> 52.998684
B16: =INDEX(lstChannel,Calc!$C$376) -> Marketplaces | E16: =INDEX(Calc!$G$346:$G$351,Calc!$C$376) -> 74.471 | F16: =INDEX(Calc!$G$353:$G$358,Calc!$C$376) -> 68.543 | G16: =E16-F16 -> 5.928 | H16: =IFERROR(G16/ABS(F16),0) -> 0.086485856 | I16: =IFERROR(E16/INDEX(Calc!$G$360:$G$365,Calc!$C$376)-1,0) -> 0.021592109 | J16: =IFERROR(E16/INDEX(Calc!$G$367:$G$372,Calc!$C$376)-1,0) -> 0.27641231 | K16: =IFERROR(E16/E$20,0) -> 0.17920206 | L16: =IFERROR(INDEX(Calc!$I$346:$I$351,Calc!$C$376)/E16,0) -> 0.5751232 | M16: =IFERROR(-(INDEX(Calc!$E$346:$E$351,Calc!$C$376)+INDEX(Calc!$F$346:$F$351,Calc!$C$376))/INDEX(Calc!$D$346:$D$351,Calc!$C$376),0) -> 0.1479973 | N16: =IFERROR(-INDEX(Calc!$K$346:$K$351,Calc!$C$376)/E16,0) -> 0.11417867 | O16: =INDEX(Calc!$L$346:$L$351,Calc!$C$376) -> 28.623 | P16: =INDEX(Calc!$L$353:$L$358,Calc!$C$376) -> 26.287 | Q16: =O16-P16 -> 2.336 | R16: =IFERROR(O16/E16,0) -> 0.38435096 | S16: =IFERROR(P16/F16,0) -> 0.38351108 | T16: =(R16-S16)*100 -> 0.083987477 | U16: =IFERROR(INDEX(Calc!$M$346:$M$351,Calc!$C$376)/INDEX(Calc!$N$346:$N$351,Calc!$C$376)*30.4*WinM,0) -> 28.000127
B17: =INDEX(lstChannel,Calc!$C$377) -> Discounters | E17: =INDEX(Calc!$G$346:$G$351,Calc!$C$377) -> 51.363 | F17: =INDEX(Calc!$G$353:$G$358,Calc!$C$377) -> 54.338 | G17: =E17-F17 -> -2.975 | H17: =IFERROR(G17/ABS(F17),0) -> -0.054749899 | I17: =IFERROR(E17/INDEX(Calc!$G$360:$G$365,Calc!$C$377)-1,0) -> -0.017182985 | J17: =IFERROR(E17/INDEX(Calc!$G$367:$G$372,Calc!$C$377)-1,0) -> 0.0040464462 | K17: =IFERROR(E17/E$20,0) -> 0.12359651 | L17: =IFERROR(INDEX(Calc!$I$346:$I$351,Calc!$C$377)/E17,0) -> 0.52259409 | M17: =IFERROR(-(INDEX(Calc!$E$346:$E$351,Calc!$C$377)+INDEX(Calc!$F$346:$F$351,Calc!$C$377))/INDEX(Calc!$D$346:$D$351,Calc!$C$377),0) -> 0.24197524 | N17: =IFERROR(-INDEX(Calc!$K$346:$K$351,Calc!$C$377)/E17,0) -> 0.07390534 | O17: =INDEX(Calc!$L$346:$L$351,Calc!$C$377) -> 18.056 | P17: =INDEX(Calc!$L$353:$L$358,Calc!$C$377) -> 20.187 | Q17: =O17-P17 -> -2.131 | R17: =IFERROR(O17/E17,0) -> 0.3515371 | S17: =IFERROR(P17/F17,0) -> 0.37150797 | T17: =(R17-S17)*100 -> -1.997087 | U17: =IFERROR(INDEX(Calc!$M$346:$M$351,Calc!$C$377)/INDEX(Calc!$N$346:$N$351,Calc!$C$377)*30.4*WinM,0) -> 48.005035
B18: =INDEX(lstChannel,Calc!$C$378) -> Distributors | E18: =INDEX(Calc!$G$346:$G$351,Calc!$C$378) -> 45.909 | F18: =INDEX(Calc!$G$353:$G$358,Calc!$C$378) -> 45.361 | G18: =E18-F18 -> 0.548 | H18: =IFERROR(G18/ABS(F18),0) -> 0.012080862 | I18: =IFERROR(E18/INDEX(Calc!$G$360:$G$365,Calc!$C$378)-1,0) -> 0.0056295453 | J18: =IFERROR(E18/INDEX(Calc!$G$367:$G$372,Calc!$C$378)-1,0) -> 0.088716562 | K18: =IFERROR(E18/E$20,0) -> 0.11047236 | L18: =IFERROR(INDEX(Calc!$I$346:$I$351,Calc!$C$378)/E18,0) -> 0.5977695 | M18: =IFERROR(-(INDEX(Calc!$E$346:$E$351,Calc!$C$378)+INDEX(Calc!$F$346:$F$351,Calc!$C$378))/INDEX(Calc!$D$346:$D$351,Calc!$C$378),0) -> 0.099947066 | N18: =IFERROR(-INDEX(Calc!$K$346:$K$351,Calc!$C$378)/E18,0) -> 0.051013962 | O18: =INDEX(Calc!$L$346:$L$351,Calc!$C$378) -> 21.535 | P18: =INDEX(Calc!$L$353:$L$358,Calc!$C$378) -> 21.476 | Q18: =O18-P18 -> 0.059 | R18: =IFERROR(O18/E18,0) -> 0.46908014 | S18: =IFERROR(P18/F18,0) -> 0.47344635 | T18: =(R18-S18)*100 -> -0.43662158 | U18: =IFERROR(INDEX(Calc!$M$346:$M$351,Calc!$C$378)/INDEX(Calc!$N$346:$N$351,Calc!$C$378)*30.4*WinM,0) -> 73.00026
B19: =INDEX(lstChannel,Calc!$C$379) -> Direct to Consumer | E19: =INDEX(Calc!$G$346:$G$351,Calc!$C$379) -> 29.456 | F19: =INDEX(Calc!$G$353:$G$358,Calc!$C$379) -> 27.825 | G19: =E19-F19 -> 1.631 | H19: =IFERROR(G19/ABS(F19),0) -> 0.058616352 | I19: =IFERROR(E19/INDEX(Calc!$G$360:$G$365,Calc!$C$379)-1,0) -> 0.013906099 | J19: =IFERROR(E19/INDEX(Calc!$G$367:$G$372,Calc!$C$379)-1,0) -> 0.13005448 | K19: =IFERROR(E19/E$20,0) -> 0.070880959 | L19: =IFERROR(INDEX(Calc!$I$346:$I$351,Calc!$C$379)/E19,0) -> 0.60670152 | M19: =IFERROR(-(INDEX(Calc!$E$346:$E$351,Calc!$C$379)+INDEX(Calc!$F$346:$F$351,Calc!$C$379))/INDEX(Calc!$D$346:$D$351,Calc!$C$379),0) -> 0.080046223 | N19: =IFERROR(-INDEX(Calc!$K$346:$K$351,Calc!$C$379)/E19,0) -> 0.1779264 | O19: =INDEX(Calc!$L$346:$L$351,Calc!$C$379) -> 10.49 | P19: =INDEX(Calc!$L$353:$L$358,Calc!$C$379) -> 10.009 | Q19: =O19-P19 -> 0.481 | R19: =IFERROR(O19/E19,0) -> 0.35612439 | S19: =IFERROR(P19/F19,0) -> 0.35971249 | T19: =(R19-S19)*100 -> -0.35880999 | U19: =IFERROR(INDEX(Calc!$M$346:$M$351,Calc!$C$379)/INDEX(Calc!$N$346:$N$351,Calc!$C$379)*30.4*WinM,0) -> 5.9922487
B20: Total | E20: =SUM(Calc!$G$346:$G$351) -> 415.57 | F20: =SUM(Calc!$G$353:$G$358) -> 416.422 | G20: =E20-F20 -> -0.852 | H20: =IFERROR(G20/ABS(F20),0) -> -0.0020460014 | I20: =IFERROR(E20/SUM(Calc!$G$360:$G$365)-1,0) -> -0.0010504631 | J20: =IFERROR(E20/SUM(Calc!$G$367:$G$372)-1,0) -> 0.080755647 | K20: =IFERROR(E20/E$20,0) -> 1 | L20: =IFERROR(SUM(Calc!$I$346:$I$351)/E20,0) -> 0.56085858 | M20: =IFERROR(-(SUM(Calc!$E$346:$E$351)+SUM(Calc!$F$346:$F$351))/SUM(Calc!$D$346:$D$351),0) -> 0.1758014 | N20: =IFERROR(-SUM(Calc!$K$346:$K$351)/E20,0) -> 0.093418678 | O20: =SUM(Calc!$L$346:$L$351) -> 158.595 | P20: =SUM(Calc!$L$353:$L$358) -> 162.511 | Q20: =O20-P20 -> -3.916 | R20: =IFERROR(O20/E20,0) -> 0.38163246 | S20: =IFERROR(P20/F20,0) -> 0.39025556 | T20: =(R20-S20)*100 -> -0.86231014 | U20: =IFERROR(SUM(Calc!$M$346:$M$351)/SUM(Calc!$N$346:$N$351)*30.4*WinM,0) -> 48.148777
B22: Channel performance
B53: ="Channel P&L: "&PerLbl&", "&UnitLbl -> Channel P&L: YTD Oct 2026, $m | N53: ="Contribution margin % heatmap: channel x brand" -> Contribution margin % heatmap: channel x brand
B54: Line | E54: =$B$14 -> Hypermarkets | F54: =$B$15 -> Supermarkets | G54: =$B$16 -> Marketplaces | H54: =$B$17 -> Discounters | I54: =$B$18 -> Distributors | J54: =$B$19 -> Direct to Consumer | K54: Total | L54: Budget | N54: Channel / Brand | Q54: =INDEX(lstBrand,1) -> Aurelia | R54: =INDEX(lstBrand,2) -> Novara | S54: =INDEX(lstBrand,3) -> Kestrel | T54: =INDEX(lstBrand,4) -> Lumio | U54: =INDEX(lstBrand,5) -> Everwood | V54: =INDEX(lstBrand,6) -> Tindra | W54: Total
B55: Gross sales | E55: =INDEX(Calc!$D$346:$D$351,Calc!$C$374) -> 144.817 | F55: =INDEX(Calc!$D$346:$D$351,Calc!$C$375) -> 121.202 | G55: =INDEX(Calc!$D$346:$D$351,Calc!$C$376) -> 87.407 | H55: =INDEX(Calc!$D$346:$D$351,Calc!$C$377) -> 67.759 | I55: =INDEX(Calc!$D$346:$D$351,Calc!$C$378) -> 51.007 | J55: =INDEX(Calc!$D$346:$D$351,Calc!$C$379) -> 32.019 | K55: =SUM(E55:J55) -> 504.211 | L55: =SUM(Calc!$D$353:$D$358) -> 504.001 | N55: =$B$14 -> Hypermarkets | Q55: =IFERROR(SUMIFS(Calc!$F$447:$F$482,Calc!$A$447:$A$482,$N55,Calc!$B$447:$B$482,Q$54)/SUMIFS(Calc!$E$447:$E$482,Calc!$A$447:$A$482,$N55,Calc!$B$447:$B$482,Q$54),0) -> 0.41156645 | R55: =IFERROR(SUMIFS(Calc!$F$447:$F$482,Calc!$A$447:$A$482,$N55,Calc!$B$447:$B$482,R$54)/SUMIFS(Calc!$E$447:$E$482,Calc!$A$447:$A$482,$N55,Calc!$B$447:$B$482,R$54),0) -> 0.36666302 | S55: =IFERROR(SUMIFS(Calc!$F$447:$F$482,Calc!$A$447:$A$482,$N55,Calc!$B$447:$B$482,S$54)/SUMIFS(Calc!$E$447:$E$482,Calc!$A$447:$A$482,$N55,Calc!$B$447:$B$482,S$54),0) -> 0.3399678 | T55: =IFERROR(SUMIFS(Calc!$F$447:$F$482,Calc!$A$447:$A$482,$N55,Calc!$B$447:$B$482,T$54)/SUMIFS(Calc!$E$447:$E$482,Calc!$A$447:$A$482,$N55,Calc!$B$447:$B$482,T$54),0) -> 0.34457595 | U55: =IFERROR(SUMIFS(Calc!$F$447:$F$482,Calc!$A$447:$A$482,$N55,Calc!$B$447:$B$482,U$54)/SUMIFS(Calc!$E$447:$E$482,Calc!$A$447:$A$482,$N55,Calc!$B$447:$B$482,U$54),0) -> 0.29749953 | V55: =IFERROR(SUMIFS(Calc!$F$447:$F$482,Calc!$A$447:$A$482,$N55,Calc!$B$447:$B$482,V$54)/SUMIFS(Calc!$E$447:$E$482,Calc!$A$447:$A$482,$N55,Calc!$B$447:$B$482,V$54),0) -> 0.21120835 | W55: =$R$14 -> 0.3574223
B56: Trade discounts | E56: =INDEX(Calc!$E$346:$E$351,Calc!$C$374) -> -28.385 | F56: =INDEX(Calc!$E$346:$E$351,Calc!$C$375) -> -19.634 | G56: =INDEX(Calc!$E$346:$E$351,Calc!$C$376) -> -9.439 | H56: =INDEX(Calc!$E$346:$E$351,Calc!$C$377) -> -15.717 | I56: =INDEX(Calc!$E$346:$E$351,Calc!$C$378) -> -4.59 | J56: =INDEX(Calc!$E$346:$E$351,Calc!$C$379) -> -0.961 | K56: =SUM(E56:J56) -> -78.726 | L56: =SUM(Calc!$E$353:$E$358) -> -77.914 | N56: =$B$15 -> Supermarkets | Q56: =IFERROR(SUMIFS(Calc!$F$447:$F$482,Calc!$A$447:$A$482,$N56,Calc!$B$447:$B$482,Q$54)/SUMIFS(Calc!$E$447:$E$482,Calc!$A$447:$A$482,$N56,Calc!$B$447:$B$482,Q$54),0) -> 0.44161913 | R56: =IFERROR(SUMIFS(Calc!$F$447:$F$482,Calc!$A$447:$A$482,$N56,Calc!$B$447:$B$482,R$54)/SUMIFS(Calc!$E$447:$E$482,Calc!$A$447:$A$482,$N56,Calc!$B$447:$B$482,R$54),0) -> 0.39891794 | S56: =IFERROR(SUMIFS(Calc!$F$447:$F$482,Calc!$A$447:$A$482,$N56,Calc!$B$447:$B$482,S$54)/SUMIFS(Calc!$E$447:$E$482,Calc!$A$447:$A$482,$N56,Calc!$B$447:$B$482,S$54),0) -> 0.37136591 | T56: =IFERROR(SUMIFS(Calc!$F$447:$F$482,Calc!$A$447:$A$482,$N56,Calc!$B$447:$B$482,T$54)/SUMIFS(Calc!$E$447:$E$482,Calc!$A$447:$A$482,$N56,Calc!$B$447:$B$482,T$54),0) -> 0.38022575 | U56: =IFERROR(SUMIFS(Calc!$F$447:$F$482,Calc!$A$447:$A$482,$N56,Calc!$B$447:$B$482,U$54)/SUMIFS(Calc!$E$447:$E$482,Calc!$A$447:$A$482,$N56,Calc!$B$447:$B$482,U$54),0) -> 0.33197991 | V56: =IFERROR(SUMIFS(Calc!$F$447:$F$482,Calc!$A$447:$A$482,$N56,Calc!$B$447:$B$482,V$54)/SUMIFS(Calc!$E$447:$E$482,Calc!$A$447:$A$482,$N56,Calc!$B$447:$B$482,V$54),0) -> 0.25900094 | W56: =$R$15 -> 0.3900853
B57: Returns | E57: =INDEX(Calc!$F$346:$F$351,Calc!$C$374) -> -2.175 | F57: =INDEX(Calc!$F$346:$F$351,Calc!$C$375) -> -1.454 | G57: =INDEX(Calc!$F$346:$F$351,Calc!$C$376) -> -3.497 | H57: =INDEX(Calc!$F$346:$F$351,Calc!$C$377) -> -0.679 | I57: =INDEX(Calc!$F$346:$F$351,Calc!$C$378) -> -0.508 | J57: =INDEX(Calc!$F$346:$F$351,Calc!$C$379) -> -1.602 | K57: =SUM(E57:J57) -> -9.915 | L57: =SUM(Calc!$F$353:$F$358) -> -9.665 | N57: =$B$16 -> Marketplaces | Q57: =IFERROR(SUMIFS(Calc!$F$447:$F$482,Calc!$A$447:$A$482,$N57,Calc!$B$447:$B$482,Q$54)/SUMIFS(Calc!$E$447:$E$482,Calc!$A$447:$A$482,$N57,Calc!$B$447:$B$482,Q$54),0) -> 0.43555679 | R57: =IFERROR(SUMIFS(Calc!$F$447:$F$482,Calc!$A$447:$A$482,$N57,Calc!$B$447:$B$482,R$54)/SUMIFS(Calc!$E$447:$E$482,Calc!$A$447:$A$482,$N57,Calc!$B$447:$B$482,R$54),0) -> 0.39226184 | S57: =IFERROR(SUMIFS(Calc!$F$447:$F$482,Calc!$A$447:$A$482,$N57,Calc!$B$447:$B$482,S$54)/SUMIFS(Calc!$E$447:$E$482,Calc!$A$447:$A$482,$N57,Calc!$B$447:$B$482,S$54),0) -> 0.36325174 | T57: =IFERROR(SUMIFS(Calc!$F$447:$F$482,Calc!$A$447:$A$482,$N57,Calc!$B$447:$B$482,T$54)/SUMIFS(Calc!$E$447:$E$482,Calc!$A$447:$A$482,$N57,Calc!$B$447:$B$482,T$54),0) -> 0.37715904 | U57: =IFERROR(SUMIFS(Calc!$F$447:$F$482,Calc!$A$447:$A$482,$N57,Calc!$B$447:$B$482,U$54)/SUMIFS(Calc!$E$447:$E$482,Calc!$A$447:$A$482,$N57,Calc!$B$447:$B$482,U$54),0) -> 0.32328967 | V57: =IFERROR(SUMIFS(Calc!$F$447:$F$482,Calc!$A$447:$A$482,$N57,Calc!$B$447:$B$482,V$54)/SUMIFS(Calc!$E$447:$E$482,Calc!$A$447:$A$482,$N57,Calc!$B$447:$B$482,V$54),0) -> 0.26396578 | W57: =$R$16 -> 0.38435096
